BEGIN:VCALENDAR
VERSION:2.0
PRODID:-//eventon.com NONSGML v1.0//EN
BEGIN:VEVENT
UID:69ed48bcad213
DTSTAMP:20260425T160532
DTSTART:20230606T153000Z
DTEND:20230606T233000Z
LOCATION:Nebraska Trucking Association 1701 K Street
SUMMARY:Grain Grading School - Lincoln\,  NE | Day I
DESCRIPTION: We’ve been offering Grain Grading Schools for nearly 90 years – and we’re not stopping any time soon. You won’t find better training on grain standards anywhere in the country.
END:VEVENT
END:VCALENDAR