BEGIN:VCALENDAR
VERSION:2.0
PRODID:-//eventon.com NONSGML v1.0//EN
BEGIN:VEVENT
UID:69ed202077e20
DTSTAMP:20260425T131216
DTSTART:20260402T153000Z
DTEND:20260402T233000Z
LOCATION:Western Nebraska Community College - Sidney Campus 371 S College Drive
SUMMARY:Grain Grading School
DESCRIPTION: We’ve been offering Grain Grading Schools for nearly 90 years – and we’re not stopping any time soon. You won’t find better training on grain standards anywhere in the country.
END:VEVENT
END:VCALENDAR