BEGIN:VCALENDAR
VERSION:2.0
PRODID:-//eventon.com NONSGML v1.0//EN
BEGIN:VEVENT
UID:69ed1fbbc6d68
DTSTAMP:20260425T131035
DTSTART:20261119T150000Z
DTEND:20261120T010000Z
LOCATION:Hyatt Regency Hotel 400 West Waterman
SUMMARY:7B/4 Recertification
DESCRIPTION: Kansas Grain and Feed Association will conduct its 7B/4\,  fumigation & seed treatment\,  recertification program in conjunction with the Kansas Agri Business Expo on Wednesday\,  November 20\,  2024.
END:VEVENT
END:VCALENDAR